BEGIN:VCALENDAR
VERSION:2.0
PRODID:-//boychoir.org//NONSGML kigkonsult.se iCalcreator 2.30.10//
CALSCALE:GREGORIAN
METHOD:PUBLISH
UID:83cb8007-25d0-4239-883f-9c430d4fd7f7
X-WR-CALDESC:Services at 8:30 AM and 9:45 AM\nfeaturing Allegro\n
X-WR-RELCALID:b0bbc4b6fb515114edbe50ccbf66382b
X-WR-TIMEZONE:America/Chicago
BEGIN:VTIMEZONE
TZID:America/Chicago
BEGIN:STANDARD
TZNAME:CST
DTSTART:20191103T020000
TZOFFSETFROM:-0500
TZOFFSETTO:-0600
RDATE:20201101T020000
END:STANDARD
BEGIN:DAYLIGHT
TZNAME:CDT
DTSTART:20190310T020000
TZOFFSETFROM:-0600
TZOFFSETTO:-0500
RDATE:20200308T020000
RDATE:20210314T020000
END:DAYLIGHT
END:VTIMEZONE
BEGIN:VEVENT
UID:fcc28779-f6e1-4303-a16a-df7751ec26d3
DTSTAMP:20260426T042844Z
DESCRIPTION:Services at 8:30 AM and 9:45 AM\nfeaturing Allegro\n
DTSTART;TZID=America/Chicago:20191110T083000
DTEND;TZID=America/Chicago:20191110T093000
LOCATION:St. Philip the Deacon Lutheran Church\, Plymouth
SUMMARY:Worship Services
END:VEVENT
END:VCALENDAR
