BEGIN:VCALENDAR
VERSION:2.0
PRODID:-//boychoir.org//NONSGML kigkonsult.se iCalcreator 2.30.10//
CALSCALE:GREGORIAN
METHOD:PUBLISH
UID:601268b4-bbbe-4509-842b-30cc7657e5d1
X-WR-CALDESC:featuring Cantando with CoMUSICation\, Minneapolis Youth Choru
 s and Twin Cities Girls' Choir\nFreewill Donation
X-WR-RELCALID:6375532b3f55b8a3e7b7ed11e9da5ee9
X-WR-TIMEZONE:America/Chicago
BEGIN:VTIMEZONE
TZID:America/Chicago
BEGIN:STANDARD
TZNAME:CST
DTSTART:20191103T020000
TZOFFSETFROM:-0500
TZOFFSETTO:-0600
RDATE:20201101T020000
END:STANDARD
BEGIN:DAYLIGHT
TZNAME:CDT
DTSTART:20200308T020000
TZOFFSETFROM:-0600
TZOFFSETTO:-0500
RDATE:20210314T020000
END:DAYLIGHT
END:VTIMEZONE
BEGIN:VEVENT
UID:d7f7fffe-0635-4cd1-b24e-68f7af3889f9
DTSTAMP:20260424T231433Z
DESCRIPTION:featuring Cantando with CoMUSICation\, Minneapolis Youth Chorus
  and Twin Cities Girls' Choir\nFreewill Donation
DTSTART;TZID=America/Chicago:20200322T190000
DTEND;TZID=America/Chicago:20200322T200000
LOCATION:Venue TBA
SUMMARY:SongShare Festival
END:VEVENT
END:VCALENDAR
