BEGIN:VCALENDAR
VERSION:2.0
PRODID:-//boychoir.org//NONSGML kigkonsult.se iCalcreator 2.30.10//
CALSCALE:GREGORIAN
METHOD:PUBLISH
UID:108870a5-10f6-4c60-9688-e31ee7c7fe27
X-WR-CALDESC:Featuring Allegro\, Cantabile\, Cantando and Canter\n\nFree an
 d open to the public.
X-WR-RELCALID:07c67a425a2c2df71afbcd3a4c5c9c37
X-WR-TIMEZONE:America/Chicago
BEGIN:VTIMEZONE
TZID:America/Chicago
BEGIN:STANDARD
TZNAME:CST
DTSTART:20231105T020000
TZOFFSETFROM:-0500
TZOFFSETTO:-0600
RDATE:20241103T020000
END:STANDARD
BEGIN:DAYLIGHT
TZNAME:CDT
DTSTART:20230312T020000
TZOFFSETFROM:-0600
TZOFFSETTO:-0500
RDATE:20240310T020000
RDATE:20250309T020000
END:DAYLIGHT
END:VTIMEZONE
BEGIN:VEVENT
UID:761eefc0-605e-41a5-88fb-fdcf28e8c230
DTSTAMP:20260419T120351Z
DESCRIPTION:Featuring Allegro\, Cantabile\, Cantando and Canter\n\nFree and
  open to the public.
DTSTART;TZID=America/Chicago:20240107T130000
DTEND;TZID=America/Chicago:20240107T143000
LOCATION:Landmark Center  |  75 West Fifth Street\, Saint Paul
SUMMARY:Annual Winter Concert
END:VEVENT
END:VCALENDAR
