BEGIN:VCALENDAR
VERSION:2.0
PRODID:-//boychoir.org//NONSGML kigkonsult.se iCalcreator 2.30.10//
CALSCALE:GREGORIAN
METHOD:PUBLISH
UID:f166e3ef-bde4-43ab-8ea3-b8a98ad8dede
X-WR-CALDESC:Featuring Cantabile
X-WR-RELCALID:d6b1593413d428e75977060f3fd7de77
X-WR-TIMEZONE:America/Chicago
BEGIN:VTIMEZONE
TZID:America/Chicago
BEGIN:STANDARD
TZNAME:CST
DTSTART:20231105T020000
TZOFFSETFROM:-0500
TZOFFSETTO:-0600
RDATE:20241103T020000
END:STANDARD
BEGIN:DAYLIGHT
TZNAME:CDT
DTSTART:20240310T020000
TZOFFSETFROM:-0600
TZOFFSETTO:-0500
RDATE:20250309T020000
END:DAYLIGHT
END:VTIMEZONE
BEGIN:VEVENT
UID:51177954-5354-4d5d-bbf6-b2b9fd35a323
DTSTAMP:20260421T180342Z
DESCRIPTION:Featuring Cantabile
DTSTART;TZID=America/Chicago:20240313T190000
DTEND;TZID=America/Chicago:20240313T200000
LOCATION:Bethlehem Lutheran Church  |  4100 Lyndale Avenue South\, Minneapo
 lis
SUMMARY:Lenten Vespers Service
END:VEVENT
END:VCALENDAR
