BEGIN:VCALENDAR
VERSION:2.0
PRODID:-//boychoir.org//NONSGML kigkonsult.se iCalcreator 2.30.10//
CALSCALE:GREGORIAN
METHOD:PUBLISH
UID:e7173c3b-f080-4b29-a390-5f3d05d30232
X-WR-CALDESC:Featuring Allegro\n\nServices at 8:30am and 10:45am
X-WR-RELCALID:602166ae5db31258607eb58c90111e2b
X-WR-TIMEZONE:America/Chicago
BEGIN:VTIMEZONE
TZID:America/Chicago
BEGIN:STANDARD
TZNAME:CST
DTSTART:20231105T020000
TZOFFSETFROM:-0500
TZOFFSETTO:-0600
RDATE:20241103T020000
END:STANDARD
BEGIN:DAYLIGHT
TZNAME:CDT
DTSTART:20240310T020000
TZOFFSETFROM:-0600
TZOFFSETTO:-0500
RDATE:20250309T020000
END:DAYLIGHT
END:VTIMEZONE
BEGIN:VEVENT
UID:24858a9c-dbdc-434b-b7e1-2c8ffb47b538
DTSTAMP:20260421T091214Z
DESCRIPTION:Featuring Allegro\n\nServices at 8:30am and 10:45am
DTSTART;TZID=America/Chicago:20240414T083000
DTEND;TZID=America/Chicago:20240414T120000
LOCATION:Prince of Peace Lutheran Church  |  2561 Victoria Street North\, R
 oseville
SUMMARY:Worship Services
END:VEVENT
END:VCALENDAR
