BEGIN:VCALENDAR
VERSION:2.0
PRODID:-//boychoir.org//NONSGML kigkonsult.se iCalcreator 2.30.10//
CALSCALE:GREGORIAN
METHOD:PUBLISH
UID:6cc4e203-6331-4df4-83f3-d8b1e732baf7
X-WR-CALDESC:
X-WR-RELCALID:e07dc4649d66f8951e398a0451efbb32
X-WR-TIMEZONE:America/Chicago
BEGIN:VTIMEZONE
TZID:America/Chicago
BEGIN:STANDARD
TZNAME:CST
DTSTART:20231105T020000
TZOFFSETFROM:-0500
TZOFFSETTO:-0600
RDATE:20241103T020000
END:STANDARD
BEGIN:DAYLIGHT
TZNAME:CDT
DTSTART:20240310T020000
TZOFFSETFROM:-0600
TZOFFSETTO:-0500
RDATE:20250309T020000
END:DAYLIGHT
END:VTIMEZONE
BEGIN:VEVENT
UID:b1fb2079-884d-48b7-8442-2bfc39ae56c7
DTSTAMP:20260420T072721Z
DESCRIPTION:
DTSTART;TZID=America/Chicago:20240427T173000
DTEND;TZID=America/Chicago:20240427T213000
LOCATION:Metropolitan Ballroom\, 5418 Wayzata Blvd\, Golden Valley\, MN 554
 16 US
SUMMARY:Sing Into Spring Gala
END:VEVENT
END:VCALENDAR
