BEGIN:VCALENDAR
VERSION:2.0
PRODID:-//boychoir.org//NONSGML kigkonsult.se iCalcreator 2.30.10//
CALSCALE:GREGORIAN
METHOD:PUBLISH
UID:cf41d359-3e23-405a-be74-713831472e90
X-WR-CALDESC:Featuring Allegro
X-WR-RELCALID:8cab27decb12a1595f7b29bd5cbc5456
X-WR-TIMEZONE:America/Chicago
BEGIN:VTIMEZONE
TZID:America/Chicago
BEGIN:STANDARD
TZNAME:CST
DTSTART:20231105T020000
TZOFFSETFROM:-0500
TZOFFSETTO:-0600
RDATE:20241103T020000
RDATE:20251102T020000
END:STANDARD
BEGIN:DAYLIGHT
TZNAME:CDT
DTSTART:20240310T020000
TZOFFSETFROM:-0600
TZOFFSETTO:-0500
RDATE:20250309T020000
END:DAYLIGHT
END:VTIMEZONE
BEGIN:VEVENT
UID:22e97e39-7857-4204-a78c-256271b75045
DTSTAMP:20260423T124224Z
DESCRIPTION:Featuring Allegro
DTSTART;TZID=America/Chicago:20240601T170000
DTEND;TZID=America/Chicago:20240601T180000
LOCATION:The Basilica of Saint Mary  |  88 North 17th Street\, Minneapolis
SUMMARY:Missa Choralis
END:VEVENT
END:VCALENDAR
