BEGIN:VCALENDAR
VERSION:2.0
PRODID:-//boychoir.org//NONSGML kigkonsult.se iCalcreator 2.30.10//
CALSCALE:GREGORIAN
METHOD:PUBLISH
UID:b6485eed-5f15-4005-b857-0240429a148d
X-WR-CALDESC:Featuring Allegro\, Cantabile\, Cantando and Cantar\n\nFreewil
 l donation
X-WR-RELCALID:707827d063b4d3473c85661a8fdfb997
X-WR-TIMEZONE:America/Chicago
BEGIN:VTIMEZONE
TZID:America/Chicago
BEGIN:STANDARD
TZNAME:CST
DTSTART:20241103T020000
TZOFFSETFROM:-0500
TZOFFSETTO:-0600
RDATE:20251102T020000
END:STANDARD
BEGIN:DAYLIGHT
TZNAME:CDT
DTSTART:20240310T020000
TZOFFSETFROM:-0600
TZOFFSETTO:-0500
RDATE:20250309T020000
RDATE:20260308T020000
END:DAYLIGHT
END:VTIMEZONE
BEGIN:VEVENT
UID:9d0a91ca-f7f9-41b5-bacd-4a7776b84a03
DTSTAMP:20260423T074152Z
DESCRIPTION:Featuring Allegro\, Cantabile\, Cantando and Cantar\n\nFreewill
  donation
DTSTART;TZID=America/Chicago:20250105T153000
DTEND;TZID=America/Chicago:20250105T170000
LOCATION:Landmark Center\, 75 West Fifth Street\, Saint Paul\, MN 55102 US
SUMMARY:Boychoir Winter Concert
END:VEVENT
END:VCALENDAR
