BEGIN:VCALENDAR
VERSION:2.0
PRODID:-//boychoir.org//NONSGML kigkonsult.se iCalcreator 2.30.10//
CALSCALE:GREGORIAN
METHOD:PUBLISH
UID:9939224a-f522-4747-9f57-1217714c5e9f
X-WR-CALDESC:featuring Cantabile
X-WR-RELCALID:bcd84a6d71582bb15a366efc50604481
X-WR-TIMEZONE:America/Chicago
BEGIN:VTIMEZONE
TZID:America/Chicago
BEGIN:STANDARD
TZNAME:CST
DTSTART:20241103T020000
TZOFFSETFROM:-0500
TZOFFSETTO:-0600
RDATE:20251102T020000
END:STANDARD
BEGIN:DAYLIGHT
TZNAME:CDT
DTSTART:20250309T020000
TZOFFSETFROM:-0600
TZOFFSETTO:-0500
RDATE:20260308T020000
END:DAYLIGHT
END:VTIMEZONE
BEGIN:VEVENT
UID:fd5f841b-af82-455d-bb05-aa135f338246
DTSTAMP:20260421T003847Z
DESCRIPTION:featuring Cantabile
DTSTART;TZID=America/Chicago:20250427T081500
DTEND;TZID=America/Chicago:20250427T091500
LOCATION:Gloria Dei Lutheran Church\, 700 Snelling Avenue South\, Saint Pau
 l\, MN 55116 US
SUMMARY:Worship Service
END:VEVENT
END:VCALENDAR
